BEGIN:VCALENDAR
VERSION:2.0
PRODID:icalendar-ruby
CALSCALE:GREGORIAN
METHOD:PUBLISH
BEGIN:VEVENT
DTSTAMP:20260426T024455Z
UID:15-642661@riverrocknaz.com
DTSTART:20261011T160000Z
DTEND:20261011T170000Z
CLASS:PUBLIC
CREATED:20260425T190845
DESCRIPTION:
LAST-MODIFIED:20260425T190845
LOCATION:67 Village Drive\, Belgrade
SUMMARY:Sunday Morning Worship
URL;VALUE=URI:https://riverrocknaz.com/events/sunday-morning-worship/2026-1
 0-11
ATTACH;FILENAME=IMG_3926.JPG;FMTTYPE=image/jpeg:https://dq5pwpg1q8ru0.cloud
 front.net/2024/09/11/00/21/38/92de1ee0-e8cf-4d4a-8e37-7f46641c0324/IMG_392
 6.JPG
END:VEVENT
END:VCALENDAR
